BEGIN:VCALENDAR
VERSION:2.0
PRODID:-//BIK Barneveld - ECPv5.16.4.1//NONSGML v1.0//EN
CALSCALE:GREGORIAN
METHOD:PUBLISH
X-WR-CALNAME:BIK Barneveld
X-ORIGINAL-URL:https://www.bikbarneveld.nl
X-WR-CALDESC:Evenementen voor BIK Barneveld
BEGIN:VTIMEZONE
TZID:UTC
BEGIN:STANDARD
TZOFFSETFROM:+0000
TZOFFSETTO:+0000
TZNAME:UTC
DTSTART:20210101T000000
END:STANDARD
END:VTIMEZONE
BEGIN:VEVENT
DTSTART;TZID=UTC:20211014T160000
DTEND;TZID=UTC:20211014T193000
DTSTAMP:20260419T154434
CREATED:20210707T123405Z
LAST-MODIFIED:20211001T130541Z
UID:3248-1634227200-1634239800@www.bikbarneveld.nl
SUMMARY:Bedrijfsbezoek BIK en JOS
DESCRIPTION:Waar: DO-IT Barneveld\nWanneer: donderdag 14 oktober 2021 \nZin om geïnspireerd te worden en om ondernemers te ontmoeten? \nKom dan naar het bedrijfsbezoek bij DO-IT op donderdag 14 oktober 2021. DO-IT is een toonaangevende organisatie met import en export van 100% biologische voedselproducten. \nVoor dit bedrijfsbezoek hebben we het thema “Regio Foodvalley” uitgekozen. Wat betekent dit voor u als ondernemer? Hoe kunt u dit inzetten? U gaat het allemaal horen. \n16.00 uur inloop\n16.30 uur welkom en presentatie Regio Foodvalley\n17.00 uur presentatie DO-IT\n17.30 uur rondleiding\n18.00 uur netwerkborrel met hapje en drankje\n19.30 uur einde \nAdres: Hermesweg 7\, Barneveld \nBent u erbij? Klik hier om u aan te melden. \njul 7\, 2021
URL:https://www.bikbarneveld.nl/agenda/bedrijfsbezoek-bik-en-jos/
CATEGORIES:BIK bijeenkomsten,JOS
ATTACH;FMTTYPE=image/png:https://www.bikbarneveld.nl/app/uploads/do-it-organic-logo-740x283-1.png
END:VEVENT
END:VCALENDAR