BEGIN:VCALENDAR
VERSION:2.0
PRODID:-//BIK Barneveld - ECPv5.16.4.1//NONSGML v1.0//EN
CALSCALE:GREGORIAN
METHOD:PUBLISH
X-WR-CALNAME:BIK Barneveld
X-ORIGINAL-URL:https://www.bikbarneveld.nl
X-WR-CALDESC:Evenementen voor BIK Barneveld
BEGIN:VTIMEZONE
TZID:UTC
BEGIN:STANDARD
TZOFFSETFROM:+0000
TZOFFSETTO:+0000
TZNAME:UTC
DTSTART:20220101T000000
END:STANDARD
END:VTIMEZONE
BEGIN:VEVENT
DTSTART;TZID=UTC:20220610T133000
DTEND;TZID=UTC:20220610T200000
DTSTAMP:20260425T113729
CREATED:20211228T134708Z
LAST-MODIFIED:20220530T125849Z
UID:3403-1654867800-1654891200@www.bikbarneveld.nl
SUMMARY:Biketour BIK & JOS
DESCRIPTION:Gezelligheid en netwerken in de natuur op een sportieve manier\, dat is wat 10 juni op de planning staat. Reserveer jouw agenda van 13.30 uur tot circa 20.00 uur\, dan maken wij er samen een actieve\, maar vooral een gezellige middag van.  \nDatum: 10 juni 2022\nTijd: 13.30 uur – 20.00 uur\nLocatie: Resort de Wije Werelt\, Arnhemseweg 100-102\, Otterlo \nHoud jij van een lekker stuk fietsen of mogen we jou wakker maken voor een mooie wandeling over de hei? Je kunt kiezen uit:\n1. Wandelroute (regelen wij)\n2. Racefiets (neem jijzelf mee)\n3. Elektrische fietsen (regelen wij of neem jijzelf mee) \nProgramma:\n13.30 uur aankomst met koffie/thee en appelgebak\n14.00 uur vertrek\n16.30 uur douchen en omkleden bij Resort de Wije Werelt\n17.00 uur borrelen\n20.00 uur einde  \nNeem gerust een ondernemer als introducé mee.  \nHet is weer eens wat anders en wij hebben er heel veel zin in\,  wij hopen jij ook! \ndec 28\, 2021
URL:https://www.bikbarneveld.nl/agenda/biketour-bik-jos/
CATEGORIES:BIK bijeenkomsten,JOS
END:VEVENT
END:VCALENDAR