BEGIN:VCALENDAR
VERSION:2.0
PRODID:-//BIK Barneveld - ECPv5.16.4.1//NONSGML v1.0//EN
CALSCALE:GREGORIAN
METHOD:PUBLISH
X-WR-CALNAME:BIK Barneveld
X-ORIGINAL-URL:https://www.bikbarneveld.nl
X-WR-CALDESC:Evenementen voor BIK Barneveld
BEGIN:VTIMEZONE
TZID:UTC
BEGIN:STANDARD
TZOFFSETFROM:+0000
TZOFFSETTO:+0000
TZNAME:UTC
DTSTART:20170101T000000
END:STANDARD
END:VTIMEZONE
BEGIN:VEVENT
DTSTART;TZID=UTC:20170926T140000
DTEND;TZID=UTC:20170926T170000
DTSTAMP:20260422T115649
CREATED:20170203T140329Z
LAST-MODIFIED:20170203T140329Z
UID:1478-1506434400-1506445200@www.bikbarneveld.nl
SUMMARY:B&W overleg
DESCRIPTION:feb 3\, 2017
URL:https://www.bikbarneveld.nl/agenda/bw-overleg-3/
END:VEVENT
END:VCALENDAR